
BEGIN:VCALENDAR
VERSION:2.0
PRODID:-//CACI - ECPv6.15.20//NONSGML v1.0//EN
CALSCALE:GREGORIAN
METHOD:PUBLISH
X-WR-CALNAME:CACI
X-ORIGINAL-URL:https://www.caci.org.ar
X-WR-CALDESC:Eventos para CACI
REFRESH-INTERVAL;VALUE=DURATION:PT1H
X-Robots-Tag:noindex
X-PUBLISHED-TTL:PT1H
BEGIN:VTIMEZONE
TZID:America/Argentina/Buenos_Aires
BEGIN:STANDARD
TZOFFSETFROM:-0300
TZOFFSETTO:-0300
TZNAME:-03
DTSTART:20220101T000000
END:STANDARD
END:VTIMEZONE
BEGIN:VEVENT
DTSTART;TZID=America/Argentina/Buenos_Aires:20240829T090000
DTEND;TZID=America/Argentina/Buenos_Aires:20240829T120000
DTSTAMP:20260419T213531
CREATED:20240813T155817Z
LAST-MODIFIED:20240827T124947Z
UID:10000032-1724922000-1724932800@www.caci.org.ar
SUMMARY:4º Jornada Institucional CACI 2024
DESCRIPTION:Los invitamos a participar de la 4º Jornada Institucional CACI 2024 sobre “Aneurisma de aorta abdominal“. \n🔜 Los esperamos el jueves 29 de agosto de 9 a 12 h\, presencial en el Auditorio CACI y virtual vía Zoom. \n✅ Actividad abierta\, requiere inscripción previa. \n  \nINSCRIPCIÓN VIRTUALINSCRIPCIÓN PRESENCIAL \n \n✅ Moderadores: Dres. Juan Arellano\, Gustavo Lev. \n✅ Moderador virtual: Dr. Dionisio Chambre \n✅ Panel de Expertos: Dres. Gustavo Andersen\, Daniel Ballarino\, Marcelo Bettinotti\, Alejandro Diego Fernández\, Raúl Solernó\, Miguel Villegas. \n \n\n\n\n\n8:30\nCafé de bienvenida\n\n\n9:00\nPalabras de bienvenida: Dr. Juan José Fernández\n\n\n9:10\nTips & Tricks en ejes ilíacos para abordaje endovascular en EVAR – TEVAR. Dr. Marcelo Cerezo\n\n\n9:30\nRevisión histórica de la endoprótesis de aorta abdominal “SETA”\, desarrollo Argentino hacia el mundo. Bioq. Héctor Barone\, Latecba\n\n\n9:40\nPresentación de caso. Dr. Martín Rosado\n\n\n9:50\nComentarios de expertos.\n\n\n10:05\nPresentación de caso. Dr. Miguel Ángel Peirano\n\n\n10:15\nDemostración en vivo de una endoprótesis (Unifarma). Dr. Miguel Ángel Peirano\n\n\n10:25\nComentarios de expertos.\n\n\n10:40\nPresentación de caso. Dr. Ernesto Torresani\n\n\n10:50\nDemostración en vivo de una endoprótesis (Medtronic). Lic. Carla Singano\n\n\n11:00\nComentarios de expertos.\n\n\n11:15\nPresentación endoprótesis customizada (Braile / Omnimedica). Lic. Yanina Ortiz\,Omnimedica.\n\n\n11:25\nCasos customizados realizados. Lic. Yanina Ortiz\, Omnimedica.\n\n\n11:35\nComentarios de expertos.\n\n\n11:50\nMensaje final: Dr. Alfredo Bravo\n\n\n\nCoffee Break\n\n\n\n\n\n  \n*Importante: CACI realizará un sorteo entre todos aquellos socios que asistan de forma presencial en alguna de las Jornadas realizadas en 2024 de 2 paquetes para las Jornadas científicas y gremiales CACI 2024 que se realizarán del 29 de noviembre al 1 de diciembre en Merlo\, San Luis.
URL:https://www.caci.org.ar/evento/4o-jornada-institucional-caci-2024/
LOCATION:Auditorio CACI\, Viamonte 2146 6º\, CABA\, 1056\, Argentina
END:VEVENT
BEGIN:VEVENT
DTSTART;TZID=America/Argentina/Buenos_Aires:20240711T090000
DTEND;TZID=America/Argentina/Buenos_Aires:20240711T110000
DTSTAMP:20260419T213531
CREATED:20240701T154631Z
LAST-MODIFIED:20240708T132630Z
UID:10000027-1720688400-1720695600@www.caci.org.ar
SUMMARY:3º Jornada Institucional CACI 2024
DESCRIPTION:Los invitamos a participar de la 3º Jornada Institucional CACI 2024 sobre “Enfermedad Coronaria“. \n🔜 Los esperamos el jueves 11 de julio de 9 a 11:00 h\, presencial en el Auditorio CACI y virtual vía Zoom. \n✅ Actividad abierta\, requiere inscripción previa. \nINSCRIPCIÓN VIRTUALINSCRIPCIÓN PRESENCIAL \n  \nModeradores: Dres. Mario A. Fernández\, Marcelo Halac.\nModeradora virtual: Dra. Amalia Descalzo \n \n\n\n\n\n8:30\nCafé de bienvenida\n\n\n9:00 – 9:05\nPalabras de bienvenida: Dr. Juan José Fernández.\n\n\n9:05 – 9:15\nCaso clínico de TCI: Lo tradicional en el tratamiento del tronco en la coronaria izquierda. Dr. Alejandro D. Fernández.\n\n\n9:15 – 9:25\nCaso clínico de TCI: ¿La urgencia modifica la estrategia? Dr. Alfredo Bravo.\n\n\n9:25 – 9:35\n¿Es válido simplificar la angioplastia de TCI? Angioplastia minimalista. Dr. Rubén Piraino.\n\n\n9:35- 9:50\nTratamiento antitrombótico en la angioplastia del tronco de coronario izquierdo. Dr. Gastón Procopio.\n\n\n9:50 – 10:25\nPanel de Expertos: Dres. Daniel Ballarino\, Dionisio Chambre\, Claudio Cigalini\, Agustín Hauqui\, Lucio Padilla\, Andrés Pascua\, Ernesto Torresani.\n\n\n10:25 – 10:30\nMensaje final: Dr. Carlos Fernández Pereira.\n\n\n10:30\nCoffee break\n\n\n\n\n\n 
URL:https://www.caci.org.ar/evento/3o-jornada-institucional-caci-2024/
LOCATION:Auditorio CACI\, Viamonte 2146 6º\, CABA\, 1056\, Argentina
END:VEVENT
BEGIN:VEVENT
DTSTART;TZID=America/Argentina/Buenos_Aires:20240613T090000
DTEND;TZID=America/Argentina/Buenos_Aires:20240613T110000
DTSTAMP:20260419T213531
CREATED:20240527T164421Z
LAST-MODIFIED:20240604T212234Z
UID:10000025-1718269200-1718276400@www.caci.org.ar
SUMMARY:2º Jornada Institucional CACI 2024
DESCRIPTION:Los invitamos a participar de la 2º Jornada Institucional CACI 2024 sobre “Tratamiento multidisciplinario de la Patología Aórtica“. \n🔜 Los esperamos el jueves 13 de junio de 9 a 11:00 h\, presencial en el Auditorio CACI y virtual vía Zoom. \n✅ Actividad abierta\, requiere inscripción previa. \nINSCRIPCIÓN VIRTUALINSCRIPCIÓN PRESENCIAL \n \n  \nModeradores: Dres. Alfredo Bravo\, Alejandro D. Fernández\nModerador virtual: Dr. Alejandro Cherro \n \n\n\n\n\n8:30\nCafé de bienvenida\n\n\n\n\n9:00 – 9:05\nPalabras de bienvenida. Dr. Juan José Fernández.\n\n\n9:05 – 9:12\nPresentación de caso clínico. Dr. Guillermo Martino.\n\n\n9:12 – 9:19\nUtilidad de las imágenes en la patología aórtica. Dr. Mariano Ferreira.\n\n\n9:19 – 9:26\nEn qué caso se necesita complejizar el implante de la endoprótesis aórtica: cuándo prótesis dedicadas\, cuándo fenestración. Dr. Andrés Pascua.\n\n\n9:26 – 9:33\nTécnica de fenestración de stent graft en tratamiento de la patología aórtica. Dr. Miguel Peirano.\n\n\n9:33 – 9:43\nResolución del caso clínico. Dr. Guillermo Martino.\n\n\n9:43 – 10:25\nPanel de Expertos: Dres. José Álvarez\, Mariano Castelli\, Ricardo Costantini\, Sebastián Peralta\, Maximiliano Rossi\, Alejandra Vega\, Lorena Villagra.\n\n\n10:25 – 10:30\nMensaje final: Dr. Alfredo Bravo.\n\n\n10:30\nCoffee break\n\n\n\n\n\n *Programa científico preliminar al martes 4 de junio.
URL:https://www.caci.org.ar/evento/2o-jornada-institucional-caci-2024/
LOCATION:Auditorio CACI\, Viamonte 2146 6º\, CABA\, 1056\, Argentina
END:VEVENT
BEGIN:VEVENT
DTSTART;TZID=America/Argentina/Buenos_Aires:20240424T150000
DTEND;TZID=America/Argentina/Buenos_Aires:20240424T180000
DTSTAMP:20260419T213531
CREATED:20240416T212813Z
LAST-MODIFIED:20240416T212813Z
UID:10000022-1713970800-1713981600@www.caci.org.ar
SUMMARY:1° Taller Gremial CACI 2024
DESCRIPTION:Invitamos a los socios a participar del 1° Taller Gremial CACI 2024 “ASOCIACIONES PROVINCIALES: ESTADO DE SITUACIÓN” donde se compartirán experiencias y conocimientos con respecto a la formación de las Asociaciones provinciales y se tratarán problemáticas e inquietudes que aquejan a nuestra especialidad en las diferentes regiones de nuestro país. \nLos esperamos el miércoles 24 de abril de 2024 a las 15 h\, presencial en el auditorio CACI y virtual vía Zoom. \n» ACCESO EXCLUSIVO PARA SOCIOS CACI\nLos socios que quieran participar deberán preinscribirse \nINSCRIPCIÓN PRESENCIAL\nINSCRIPCIÓN VIRTUAL
URL:https://www.caci.org.ar/evento/1-taller-gremial-caci-2024/
LOCATION:Auditorio CACI\, Viamonte 2146 6º\, CABA\, 1056\, Argentina
END:VEVENT
BEGIN:VEVENT
DTSTART;TZID=America/Argentina/Buenos_Aires:20240307T090000
DTEND;TZID=America/Argentina/Buenos_Aires:20240307T113000
DTSTAMP:20260419T213531
CREATED:20240227T132137Z
LAST-MODIFIED:20240304T115733Z
UID:10000017-1709802000-1709811000@www.caci.org.ar
SUMMARY:1º Jornada Institucional CACI 2024
DESCRIPTION:Los invitamos a participar de la 1º Jornada Institucional CACI 2024 sobre “Impacto de la crisis en la Cardiología Intervencionista: desafíos y mejoras“. \n🔜 Los esperamos el jueves 7 de marzo de 9 a 11:30 h\, presencial en el Auditorio CACI y virtual vía Zoom.\n✅ Actividad abierta\, requiere inscripción previa. \nINSCRIPCIÓN VIRTUALINSCRIPCIÓN PRESENCIAL
URL:https://www.caci.org.ar/evento/1o-jornada-institucional-caci-2024/
LOCATION:Auditorio CACI\, Viamonte 2146 6º\, CABA\, 1056\, Argentina
END:VEVENT
BEGIN:VEVENT
DTSTART;TZID=America/Argentina/Buenos_Aires:20231214T180000
DTEND;TZID=America/Argentina/Buenos_Aires:20231214T180000
DTSTAMP:20260419T213531
CREATED:20231129T130453Z
LAST-MODIFIED:20231129T130453Z
UID:10000014-1702576800-1702576800@www.caci.org.ar
SUMMARY:Cocktail de fin de año CACI
DESCRIPTION:Los invitamos a participar del Cocktail de fin de año del Colegio\, el próximo jueves 14 de diciembre\, a las 18 h en el Auditorio CACI (Viamonte 2146 6º piso\, CABA) para brindar por el cierre del año 2023. \nPara una correcta organización solicitamos confirmar asistencia vía mail a congresos@caci.org.ar. \n🔜 JUEVES 14 DE DICIEMBRE A LAS 18 H EN CACI.
URL:https://www.caci.org.ar/evento/cocktail-de-fin-de-ano-caci/
LOCATION:Auditorio CACI\, Viamonte 2146 6º\, CABA\, 1056\, Argentina
END:VEVENT
BEGIN:VEVENT
DTSTART;TZID=America/Argentina/Buenos_Aires:20231206T090000
DTEND;TZID=America/Argentina/Buenos_Aires:20231206T130000
DTSTAMP:20260419T213531
CREATED:20231129T131307Z
LAST-MODIFIED:20231129T201938Z
UID:10000015-1701853200-1701867600@www.caci.org.ar
SUMMARY:Jornada TCA-CACI
DESCRIPTION:Los invitamos a participar de la Jornada TCA-CACI “En camino hacia la calidad en intervenciones cardiovasculares en Argentina“. \n🔜 Los esperamos el día miércoles 6 de diciembre de 9:00 a 13:00 h\, actividad híbrida\, presencial en el Auditorio CACI y online vía Zoom. \n✅ Actividad abierta\, con inscripción previa \nProgramaInscripción presencialInscripción virtual \n 
URL:https://www.caci.org.ar/evento/jornada-tca-caci/
LOCATION:Auditorio CACI\, Viamonte 2146 6º\, CABA\, 1056\, Argentina
END:VEVENT
BEGIN:VEVENT
DTSTART;TZID=America/Argentina/Buenos_Aires:20231003T090000
DTEND;TZID=America/Argentina/Buenos_Aires:20231003T180000
DTSTAMP:20260419T213531
CREATED:20230912T144937Z
LAST-MODIFIED:20230920T155810Z
UID:10000010-1696323600-1696356000@www.caci.org.ar
SUMMARY:2° Taller de Bifurcaciones
DESCRIPTION:Teórico y práctico\nMartes 3 de octubre de 9 a 18 h\nPresencial en la sede CACI y virtual\n\n9 – 12 h | Diálogo con expertos (actividad híbrida)\n13 – 17 h | Práctica con entrenadores (cupos limitados a 12 participantes)\n\nRequiere inscripción previa \n  \nACCEDA AL PROGRAMA\nINSCRIPCIÓN PRESENCIAL\nINSCRIPCIÓN VIRTUAL
URL:https://www.caci.org.ar/evento/2-taller-de-bifurcaciones/
LOCATION:Auditorio CACI\, Viamonte 2146 6º\, CABA\, 1056\, Argentina
ATTACH;FMTTYPE=image/jpeg:https://www.caci.org.ar/wp-content/uploads/2023/09/img-taller-bifurcaciones-caci-terumo-2023.jpg
END:VEVENT
END:VCALENDAR